Package: schex Version: 1.20.0 Command: /Library/Frameworks/R.framework/Resources/bin/R CMD build --keep-empty-dirs --no-resave-data schex StartedAt: 2025-03-31 21:45:52 -0400 (Mon, 31 Mar 2025) EndedAt: 2025-03-31 21:49:57 -0400 (Mon, 31 Mar 2025) EllapsedTime: 245.1 seconds RetCode: 0 Status: OK PackageFile: schex_1.20.0.tar.gz PackageFileSize: 3.69 MiB