Package: scran Version: 1.34.0 Command: /Library/Frameworks/R.framework/Resources/bin/R CMD INSTALL scran StartedAt: 2025-03-31 17:44:31 -0400 (Mon, 31 Mar 2025) EndedAt: 2025-03-31 17:45:43 -0400 (Mon, 31 Mar 2025) EllapsedTime: 72.1 seconds RetCode: 0 Status: OK