Package: segmentSeq Version: 2.40.0 Command: /Library/Frameworks/R.framework/Resources/bin/R CMD build --keep-empty-dirs --no-resave-data segmentSeq StartedAt: 2025-03-31 21:57:28 -0400 (Mon, 31 Mar 2025) EndedAt: 2025-03-31 22:37:28 -0400 (Mon, 31 Mar 2025) EllapsedTime: 2400.0 seconds RetCode: None Status: TIMEOUT PackageFile: None PackageFileSize: NA