Package: segmentSeq Version: 2.40.0 Command: /home/biocbuild/R/R/bin/R CMD build --keep-empty-dirs --no-resave-data segmentSeq StartedAt: 2025-04-01 02:37:17 -0000 (Tue, 01 Apr 2025) EndedAt: 2025-04-01 03:17:17 -0000 (Tue, 01 Apr 2025) EllapsedTime: 2400.4 seconds RetCode: None Status: TIMEOUT PackageFile: None PackageFileSize: NA