Package: seqPattern Version: 1.38.0 Command: /Library/Frameworks/R.framework/Resources/bin/R CMD INSTALL seqPattern StartedAt: 2025-03-31 15:24:49 -0400 (Mon, 31 Mar 2025) EndedAt: 2025-03-31 15:25:03 -0400 (Mon, 31 Mar 2025) EllapsedTime: 13.4 seconds RetCode: 0 Status: OK