Package: sesame Version: 1.24.0 Command: /Library/Frameworks/R.framework/Resources/bin/R CMD INSTALL sesame StartedAt: 2025-03-31 15:51:24 -0400 (Mon, 31 Mar 2025) EndedAt: 2025-03-31 15:52:05 -0400 (Mon, 31 Mar 2025) EllapsedTime: 40.6 seconds RetCode: 0 Status: OK