Package: simPIC Version: 1.2.0 Command: /home/biocbuild/bbs-3.20-bioc/R/bin/R CMD build --keep-empty-dirs --no-resave-data --md5 simPIC StartedAt: 2025-03-31 19:09:06 -0400 (Mon, 31 Mar 2025) EndedAt: 2025-03-31 19:09:55 -0400 (Mon, 31 Mar 2025) EllapsedTime: 49.0 seconds RetCode: 0 Status: OK PackageFile: simPIC_1.2.0.tar.gz PackageFileSize: 1.146 MiB