Package: similaRpeak Version: 1.38.0 Command: /home/biocbuild/bbs-3.20-bioc/R/bin/R CMD build --keep-empty-dirs --no-resave-data --md5 similaRpeak StartedAt: 2025-03-31 19:09:01 -0400 (Mon, 31 Mar 2025) EndedAt: 2025-03-31 19:09:26 -0400 (Mon, 31 Mar 2025) EllapsedTime: 25.0 seconds RetCode: 0 Status: OK PackageFile: similaRpeak_1.38.0.tar.gz PackageFileSize: 2.076 MiB