Package: sketchR Version: 1.2.0 Command: /Library/Frameworks/R.framework/Resources/bin/R CMD build --keep-empty-dirs --no-resave-data sketchR StartedAt: 2025-04-01 08:05:30 -0400 (Tue, 01 Apr 2025) EndedAt: 2025-04-01 08:08:08 -0400 (Tue, 01 Apr 2025) EllapsedTime: 157.6 seconds RetCode: 0 Status: OK PackageFile: sketchR_1.2.0.tar.gz PackageFileSize: 1.158 MiB