Package: sparseMatrixStats Version: 1.18.0 Command: /Library/Frameworks/R.framework/Resources/bin/R CMD build --keep-empty-dirs --no-resave-data sparseMatrixStats StartedAt: 2025-03-31 22:12:48 -0400 (Mon, 31 Mar 2025) EndedAt: 2025-03-31 22:13:51 -0400 (Mon, 31 Mar 2025) EllapsedTime: 62.8 seconds RetCode: 0 Status: OK PackageFile: sparseMatrixStats_1.18.0.tar.gz PackageFileSize: 687.6 KiB