Package: sparseMatrixStats Version: 1.18.0 Command: F:\biocbuild\bbs-3.20-bioc\R\bin\R.exe CMD INSTALL sparseMatrixStats StartedAt: 2025-03-31 15:29:20 -0400 (Mon, 31 Mar 2025) EndedAt: 2025-03-31 15:35:04 -0400 (Mon, 31 Mar 2025) EllapsedTime: 343.5 seconds RetCode: 0 Status: OK