Package: sparseMatrixStats Version: 1.18.0 Command: /home/biocbuild/R/R/bin/R CMD build --keep-empty-dirs --no-resave-data sparseMatrixStats StartedAt: 2025-04-01 02:50:58 -0000 (Tue, 01 Apr 2025) EndedAt: 2025-04-01 02:51:44 -0000 (Tue, 01 Apr 2025) EllapsedTime: 46.0 seconds RetCode: 0 Status: OK PackageFile: sparseMatrixStats_1.18.0.tar.gz PackageFileSize: 711 KiB