Package: spatialHeatmap Version: 2.12.1 Command: /Library/Frameworks/R.framework/Resources/bin/R CMD INSTALL spatialHeatmap StartedAt: 2025-03-31 16:29:48 -0400 (Mon, 31 Mar 2025) EndedAt: 2025-03-31 16:31:20 -0400 (Mon, 31 Mar 2025) EllapsedTime: 92.4 seconds RetCode: 0 Status: OK