Package: ssize Version: 1.80.0 Command: /home/biocbuild/R/R/bin/R CMD INSTALL ssize StartedAt: 2025-03-31 20:11:46 -0000 (Mon, 31 Mar 2025) EndedAt: 2025-03-31 20:11:49 -0000 (Mon, 31 Mar 2025) EllapsedTime: 3.2 seconds RetCode: 0 Status: OK