Package: struct Version: 1.18.0 Command: /home/biocbuild/R/R/bin/R CMD build --keep-empty-dirs --no-resave-data struct StartedAt: 2025-04-01 02:59:59 -0000 (Tue, 01 Apr 2025) EndedAt: 2025-04-01 03:00:48 -0000 (Tue, 01 Apr 2025) EllapsedTime: 49.0 seconds RetCode: 0 Status: OK PackageFile: struct_1.18.0.tar.gz PackageFileSize: 635 KiB