Package: structToolbox Version: 1.18.2 Command: chmod a+r structToolbox -R && F:\biocbuild\bbs-3.20-bioc\R\bin\R.exe CMD build --keep-empty-dirs --no-resave-data structToolbox StartedAt: 2025-03-31 22:13:46 -0400 (Mon, 31 Mar 2025) EndedAt: 2025-03-31 22:27:50 -0400 (Mon, 31 Mar 2025) EllapsedTime: 843.8 seconds RetCode: 0 Status: OK PackageFile: structToolbox_1.18.2.tar.gz PackageFileSize: 3.413 MiB