Package: survClust Version: 1.0.0 Command: /Library/Frameworks/R.framework/Resources/bin/R CMD INSTALL survClust StartedAt: 2025-03-31 17:08:23 -0400 (Mon, 31 Mar 2025) EndedAt: 2025-03-31 17:08:53 -0400 (Mon, 31 Mar 2025) EllapsedTime: 30.4 seconds RetCode: 0 Status: OK