Package: sva Version: 3.54.0 Command: /home/biocbuild/bbs-3.20-bioc/R/bin/R CMD INSTALL sva StartedAt: 2025-03-31 15:44:45 -0400 (Mon, 31 Mar 2025) EndedAt: 2025-03-31 15:45:03 -0400 (Mon, 31 Mar 2025) EllapsedTime: 18.3 seconds RetCode: 0 Status: OK