Package: swfdr Version: 1.32.0 Command: /Library/Frameworks/R.framework/Resources/bin/R CMD build --keep-empty-dirs --no-resave-data swfdr StartedAt: 2025-04-01 08:58:36 -0400 (Tue, 01 Apr 2025) EndedAt: 2025-04-01 08:59:41 -0400 (Tue, 01 Apr 2025) EllapsedTime: 65.5 seconds RetCode: 0 Status: OK PackageFile: swfdr_1.32.0.tar.gz PackageFileSize: 1.202 MiB