Package: swfdr Version: 1.32.0 Command: /home/biocbuild/R/R/bin/R CMD INSTALL swfdr StartedAt: 2025-03-31 20:13:40 -0000 (Mon, 31 Mar 2025) EndedAt: 2025-03-31 20:14:09 -0000 (Mon, 31 Mar 2025) EllapsedTime: 29.1 seconds RetCode: 0 Status: OK