Package: synapter Version: 2.30.0 Command: /Library/Frameworks/R.framework/Resources/bin/R CMD INSTALL synapter StartedAt: 2025-03-31 17:26:03 -0400 (Mon, 31 Mar 2025) EndedAt: 2025-03-31 17:27:07 -0400 (Mon, 31 Mar 2025) EllapsedTime: 63.9 seconds RetCode: 0 Status: OK