Package: synlet Version: 2.6.0 Command: /home/biocbuild/R/R/bin/R CMD INSTALL synlet StartedAt: 2025-03-31 20:24:37 -0000 (Mon, 31 Mar 2025) EndedAt: 2025-03-31 20:24:43 -0000 (Mon, 31 Mar 2025) EllapsedTime: 5.8 seconds RetCode: 0 Status: OK