Package: systemPipeR Version: 2.12.0 Command: /home/biocbuild/R/R/bin/R CMD build --keep-empty-dirs --no-resave-data systemPipeR StartedAt: 2025-04-01 03:05:05 -0000 (Tue, 01 Apr 2025) EndedAt: 2025-04-01 03:06:44 -0000 (Tue, 01 Apr 2025) EllapsedTime: 99.1 seconds RetCode: 0 Status: OK PackageFile: systemPipeR_2.12.0.tar.gz PackageFileSize: 6.872 MiB