Package: systemPipeTools Version: 1.14.0 Command: /Library/Frameworks/R.framework/Resources/bin/R CMD INSTALL systemPipeTools StartedAt: 2025-03-31 16:30:10 -0400 (Mon, 31 Mar 2025) EndedAt: 2025-03-31 16:31:03 -0400 (Mon, 31 Mar 2025) EllapsedTime: 53.5 seconds RetCode: 0 Status: OK