Package: tRNAscanImport Version: 1.26.0 Command: /Library/Frameworks/R.framework/Resources/bin/R CMD INSTALL tRNAscanImport StartedAt: 2025-03-31 15:34:51 -0400 (Mon, 31 Mar 2025) EndedAt: 2025-03-31 15:36:05 -0400 (Mon, 31 Mar 2025) EllapsedTime: 73.8 seconds RetCode: 0 Status: OK