Package: tRNAscanImport Version: 1.26.0 Command: /home/biocbuild/R/R/bin/R CMD INSTALL tRNAscanImport StartedAt: 2025-03-31 20:32:34 -0000 (Mon, 31 Mar 2025) EndedAt: 2025-03-31 20:33:20 -0000 (Mon, 31 Mar 2025) EllapsedTime: 45.8 seconds RetCode: 0 Status: OK