Package: tidySpatialExperiment Version: 1.2.0 Command: chmod a+r tidySpatialExperiment -R && F:\biocbuild\bbs-3.20-bioc\R\bin\R.exe CMD build --keep-empty-dirs --no-resave-data tidySpatialExperiment StartedAt: 2025-03-31 22:22:08 -0400 (Mon, 31 Mar 2025) EndedAt: 2025-03-31 22:23:24 -0400 (Mon, 31 Mar 2025) EllapsedTime: 75.8 seconds RetCode: 0 Status: OK PackageFile: tidySpatialExperiment_1.2.0.tar.gz PackageFileSize: 4.216 MiB