Package: tidybulk Version: 1.18.0 Command: /Library/Frameworks/R.framework/Resources/bin/R CMD INSTALL tidybulk StartedAt: 2025-03-31 16:49:06 -0400 (Mon, 31 Mar 2025) EndedAt: 2025-03-31 16:50:01 -0400 (Mon, 31 Mar 2025) EllapsedTime: 54.8 seconds RetCode: 0 Status: OK