Package: tidybulk Version: 1.18.0 Command: /home/biocbuild/R/R/bin/R CMD INSTALL tidybulk StartedAt: 2025-03-31 20:45:20 -0000 (Mon, 31 Mar 2025) EndedAt: 2025-03-31 20:46:22 -0000 (Mon, 31 Mar 2025) EllapsedTime: 62.3 seconds RetCode: 0 Status: OK