Package: tomoseqr Version: 1.10.0 Command: /Library/Frameworks/R.framework/Resources/bin/R CMD INSTALL tomoseqr StartedAt: 2025-03-31 16:52:59 -0400 (Mon, 31 Mar 2025) EndedAt: 2025-03-31 16:53:08 -0400 (Mon, 31 Mar 2025) EllapsedTime: 8.9 seconds RetCode: 0 Status: OK