Package: tpSVG Version: 1.2.0 Command: /Library/Frameworks/R.framework/Resources/bin/R CMD INSTALL tpSVG StartedAt: 2025-03-31 16:40:07 -0400 (Mon, 31 Mar 2025) EndedAt: 2025-03-31 16:40:55 -0400 (Mon, 31 Mar 2025) EllapsedTime: 48.0 seconds RetCode: 0 Status: OK