Package: tpSVG Version: 1.2.0 Command: /home/biocbuild/R/R/bin/R CMD INSTALL tpSVG StartedAt: 2025-03-31 21:10:52 -0000 (Mon, 31 Mar 2025) EndedAt: 2025-03-31 21:11:21 -0000 (Mon, 31 Mar 2025) EllapsedTime: 28.9 seconds RetCode: 0 Status: OK