Package: transcriptogramer Version: 1.28.0 Command: /Library/Frameworks/R.framework/Resources/bin/R CMD build --keep-empty-dirs --no-resave-data transcriptogramer StartedAt: 2025-03-31 22:39:36 -0400 (Mon, 31 Mar 2025) EndedAt: 2025-03-31 23:03:58 -0400 (Mon, 31 Mar 2025) EllapsedTime: 1461.6 seconds RetCode: 0 Status: OK PackageFile: transcriptogramer_1.28.0.tar.gz PackageFileSize: 3.63 MiB