Package: treekoR Version: 1.14.0 Command: /home/biocbuild/bbs-3.20-bioc/R/bin/R CMD build --keep-empty-dirs --no-resave-data --md5 treekoR StartedAt: 2025-03-31 19:29:50 -0400 (Mon, 31 Mar 2025) EndedAt: 2025-03-31 19:31:08 -0400 (Mon, 31 Mar 2025) EllapsedTime: 78.2 seconds RetCode: 0 Status: OK PackageFile: treekoR_1.14.0.tar.gz PackageFileSize: 1.581 MiB