Package: trigger Version: 1.52.0 Command: /home/biocbuild/R/R/bin/R CMD build --keep-empty-dirs --no-resave-data trigger StartedAt: 2025-04-01 03:17:35 -0000 (Tue, 01 Apr 2025) EndedAt: 2025-04-01 03:20:09 -0000 (Tue, 01 Apr 2025) EllapsedTime: 153.2 seconds RetCode: 0 Status: OK PackageFile: trigger_1.52.0.tar.gz PackageFileSize: 1.829 MiB