Package: tripr Version: 1.12.0 Command: /Library/Frameworks/R.framework/Resources/bin/R CMD INSTALL tripr StartedAt: 2025-03-31 16:54:40 -0400 (Mon, 31 Mar 2025) EndedAt: 2025-03-31 16:55:15 -0400 (Mon, 31 Mar 2025) EllapsedTime: 34.9 seconds RetCode: 0 Status: OK