Package: unifiedWMWqPCR Version: 1.42.0 Command: /Library/Frameworks/R.framework/Resources/bin/R CMD INSTALL unifiedWMWqPCR StartedAt: 2025-03-31 15:09:30 -0400 (Mon, 31 Mar 2025) EndedAt: 2025-03-31 15:09:55 -0400 (Mon, 31 Mar 2025) EllapsedTime: 24.5 seconds RetCode: 0 Status: OK