Package: updateObject Version: 1.10.0 Command: /home/biocbuild/R/R/bin/R CMD INSTALL updateObject StartedAt: 2025-03-31 20:37:14 -0000 (Mon, 31 Mar 2025) EndedAt: 2025-03-31 20:37:20 -0000 (Mon, 31 Mar 2025) EllapsedTime: 5.3 seconds RetCode: 0 Status: OK