Package: weaver Version: 1.72.0 Command: /Library/Frameworks/R.framework/Resources/bin/R CMD build --keep-empty-dirs --no-resave-data weaver StartedAt: 2025-04-01 10:02:27 -0400 (Tue, 01 Apr 2025) EndedAt: 2025-04-01 10:02:39 -0400 (Tue, 01 Apr 2025) EllapsedTime: 11.3 seconds RetCode: 0 Status: OK PackageFile: weaver_1.72.0.tar.gz PackageFileSize: 231.1 KiB