Package: widgetTools Version: 1.84.0 Command: /Library/Frameworks/R.framework/Resources/bin/R CMD INSTALL widgetTools StartedAt: 2025-03-31 15:07:05 -0400 (Mon, 31 Mar 2025) EndedAt: 2025-03-31 15:07:11 -0400 (Mon, 31 Mar 2025) EllapsedTime: 6.5 seconds RetCode: 0 Status: OK