Package: zlibbioc Version: 1.52.0 Command: /home/biocbuild/R/R/bin/R CMD build --keep-empty-dirs --no-resave-data zlibbioc StartedAt: 2025-04-01 03:33:06 -0000 (Tue, 01 Apr 2025) EndedAt: 2025-04-01 03:33:12 -0000 (Tue, 01 Apr 2025) EllapsedTime: 6.0 seconds RetCode: 0 Status: OK PackageFile: zlibbioc_1.52.0.tar.gz PackageFileSize: 398.6 KiB