Package: FlowSorted.DLPFC.450k Version: 1.42.0 Command: /home/biocbuild/bbs-3.20-bioc/R/bin/R CMD INSTALL FlowSorted.DLPFC.450k StartedAt: 2025-04-01 11:02:21 -0400 (Tue, 01 Apr 2025) EndedAt: 2025-04-01 11:03:25 -0400 (Tue, 01 Apr 2025) EllapsedTime: 64.0 seconds RetCode: 0 Status: OK