Package: TCGAWorkflowData Version: 1.30.0 Command: /home/biocbuild/bbs-3.20-bioc/R/bin/R CMD build --keep-empty-dirs --no-resave-data TCGAWorkflowData StartedAt: 2025-04-01 11:38:23 -0400 (Tue, 01 Apr 2025) EndedAt: 2025-04-01 11:40:51 -0400 (Tue, 01 Apr 2025) EllapsedTime: 148.2 seconds RetCode: 0 Status: OK PackageFile: TCGAWorkflowData_1.30.0.tar.gz PackageFileSize: 68.83 MiB