Back to Multiple platform build/check report for BioC 3.21:   simplified   long
A[B]CDEFGHIJKLMNOPQRSTUVWXYZ

This page was generated on 2025-10-09 11:36 -0400 (Thu, 09 Oct 2025).

HostnameOSArch (*)R versionInstalled pkgs
nebbiolo1Linux (Ubuntu 24.04.3 LTS)x86_644.5.1 (2025-06-13) -- "Great Square Root" 4832
merida1macOS 12.7.5 Montereyx86_644.5.1 RC (2025-06-05 r88288) -- "Great Square Root" 4613
kjohnson1macOS 13.6.6 Venturaarm644.5.1 Patched (2025-06-14 r88325) -- "Great Square Root" 4554
kunpeng2Linux (openEuler 24.03 LTS)aarch64R Under development (unstable) (2025-02-19 r87757) -- "Unsuffered Consequences" 4585
Click on any hostname to see more info about the system (e.g. compilers)      (*) as reported by 'uname -p', except on Windows and Mac OS X

All results for package BiocFileCache


To the developers/maintainers of the BiocFileCache package:
- Allow up to 24 hours (and sometimes 48 hours) for your latest push to git@git.bioconductor.org:packages/BiocFileCache.git to reflect on this report. See Troubleshooting Build Report for more information.
- Use the following Renviron settings to reproduce errors and warnings.
- If 'R CMD check' started to fail recently on the Linux builder(s) over a missing dependency, add the missing dependency to 'Suggests:' in your DESCRIPTION file. See Renviron.bioc for more information.

raw results

Package 185/2341HostnameOS / ArchINSTALLBUILDCHECKBUILD BIN
BiocFileCache 2.16.2  (landing page)
Lori Shepherd
Snapshot Date: 2025-10-06 13:40 -0400 (Mon, 06 Oct 2025)
git_url: https://git.bioconductor.org/packages/BiocFileCache
git_branch: RELEASE_3_21
git_last_commit: 22fec96
git_last_commit_date: 2025-08-25 08:44:02 -0400 (Mon, 25 Aug 2025)
nebbiolo1Linux (Ubuntu 24.04.3 LTS) / x86_64  OK    OK    OK  UNNEEDED, same version is already published
merida1macOS 12.7.5 Monterey / x86_64  OK    OK    ERROR    OK  
kjohnson1macOS 13.6.6 Ventura / arm64  OK    OK    ERROR    OK  
kunpeng2Linux (openEuler 24.03 LTS) / aarch64  OK    OK    OK  



Results for Bioconductor software packages that depend directly on package BiocFileCache

QUICK STATSOS / ArchINSTALLBUILDCHECKBUILD BIN
nebbiolo1Linux (Ubuntu 24.04.3 LTS) / x86_64
0179
0971
02960
merida1macOS 12.7.5 Monterey / x86_64
0178
0970
01960
0070
kjohnson1macOS 13.6.6 Ventura / arm64
0178
0970
01960
0070
kunpeng2Linux (openEuler 24.03 LTS) / aarch64
0080
1871
22747
Package 1/80HostnameOS / ArchINSTALLBUILDCHECKBUILD BIN
AlphaMissenseR 1.4.2  (landing page)
Martin Morgan
git_last_commit: 8b54367
git_last_commit_date: 2025-07-19 16:34:52 -0400
nebbiolo1Linux (Ubuntu 24.04.3 LTS) / x86_64  OK    ERROR  skipped
merida1macOS 12.7.5 Monterey / x86_64  OK    ERROR  skippedskipped
kjohnson1macOS 13.6.6 Ventura / arm64  OK    ERROR  skippedskipped
kunpeng2Linux (openEuler 24.03 LTS) / aarch64  OK    OK    OK  
Package 2/80HostnameOS / ArchINSTALLBUILDCHECKBUILD BIN
AMARETTO 1.24.0  (landing page)
Olivier Gevaert
git_last_commit: 4466608
git_last_commit_date: 2025-04-15 11:42:21 -0400
nebbiolo1Linux (Ubuntu 24.04.3 LTS) / x86_64  OK    OK    WARNINGS  UNNEEDED, same version is already published
merida1macOS 12.7.5 Monterey / x86_64  OK    OK    WARNINGS    OK  UNNEEDED, same version is already published
kjohnson1macOS 13.6.6 Ventura / arm64  OK    OK    WARNINGS    OK  UNNEEDED, same version is already published
kunpeng2Linux (openEuler 24.03 LTS) / aarch64  OK    OK    WARNINGS  
Package 3/80HostnameOS / ArchINSTALLBUILDCHECKBUILD BIN
AnnotationHub 3.16.1  (landing page)
Bioconductor Package Maintainer
git_last_commit: cda9c0e
git_last_commit_date: 2025-07-17 15:21:49 -0400
nebbiolo1Linux (Ubuntu 24.04.3 LTS) / x86_64  OK    OK    OK  UNNEEDED, same version is already published
merida1macOS 12.7.5 Monterey / x86_64  OK    OK    OK    OK  UNNEEDED, same version is already published
kjohnson1macOS 13.6.6 Ventura / arm64  OK    OK    OK    OK  UNNEEDED, same version is already published
kunpeng2Linux (openEuler 24.03 LTS) / aarch64  OK    OK    TIMEOUT  
Package 4/80HostnameOS / ArchINSTALLBUILDCHECKBUILD BIN
atSNP 1.24.0  (landing page)
Sunyoung Shin
git_last_commit: d067523
git_last_commit_date: 2025-04-15 11:41:11 -0400
nebbiolo1Linux (Ubuntu 24.04.3 LTS) / x86_64  OK    OK    OK  UNNEEDED, same version is already published
merida1macOS 12.7.5 Monterey / x86_64  OK    OK    OK    OK  UNNEEDED, same version is already published
kjohnson1macOS 13.6.6 Ventura / arm64  OK    OK    OK    OK  UNNEEDED, same version is already published
kunpeng2Linux (openEuler 24.03 LTS) / aarch64  OK    OK    OK  
Package 5/80HostnameOS / ArchINSTALLBUILDCHECKBUILD BIN
autonomics 1.16.0  (landing page)
Aditya Bhagwat
git_last_commit: a47f4df
git_last_commit_date: 2025-04-15 12:21:58 -0400
nebbiolo1Linux (Ubuntu 24.04.3 LTS) / x86_64  OK    OK    OK  UNNEEDED, same version is already published
merida1macOS 12.7.5 Monterey / x86_64  OK    OK    OK    OK  UNNEEDED, same version is already published
kjohnson1macOS 13.6.6 Ventura / arm64  OK    OK    OK    OK  UNNEEDED, same version is already published
kunpeng2Linux (openEuler 24.03 LTS) / aarch64  OK    OK    ERROR  
Package 6/80HostnameOS / ArchINSTALLBUILDCHECKBUILD BIN
BayesSpace 1.18.4  (landing page)
Senbai Kang
git_last_commit: 1c37eef
git_last_commit_date: 2025-07-15 08:02:41 -0400
nebbiolo1Linux (Ubuntu 24.04.3 LTS) / x86_64  OK    OK    OK  UNNEEDED, same version is already published
merida1macOS 12.7.5 Monterey / x86_64  OK    OK    OK    OK  UNNEEDED, same version is already published
kjohnson1macOS 13.6.6 Ventura / arm64  OK    OK    OK    OK  UNNEEDED, same version is already published
kunpeng2Linux (openEuler 24.03 LTS) / aarch64  OK    OK    OK  
Package 7/80HostnameOS / ArchINSTALLBUILDCHECKBUILD BIN
bedbaser 1.0.3  (landing page)
Andres Wokaty
git_last_commit: cf1844d
git_last_commit_date: 2025-07-16 11:47:03 -0400
nebbiolo1Linux (Ubuntu 24.04.3 LTS) / x86_64  OK    ERROR  skipped
merida1macOS 12.7.5 Monterey / x86_64  OK    ERROR  skippedskipped
kjohnson1macOS 13.6.6 Ventura / arm64  OK    ERROR  skippedskipped
kunpeng2Linux (openEuler 24.03 LTS) / aarch64  OK    ERROR  skipped
Package 8/80HostnameOS / ArchINSTALLBUILDCHECKBUILD BIN
BiocCheck 1.44.2  (landing page)
Marcel Ramos
git_last_commit: c9bf2e8
git_last_commit_date: 2025-05-15 17:39:40 -0400
nebbiolo1Linux (Ubuntu 24.04.3 LTS) / x86_64  OK    OK    OK  UNNEEDED, same version is already published
merida1macOS 12.7.5 Monterey / x86_64  OK    OK    OK    OK  UNNEEDED, same version is already published
kjohnson1macOS 13.6.6 Ventura / arm64  OK    OK    OK    OK  UNNEEDED, same version is already published
kunpeng2Linux (openEuler 24.03 LTS) / aarch64  OK    OK    OK  
Package 9/80HostnameOS / ArchINSTALLBUILDCHECKBUILD BIN
BiocHail 1.8.0  (landing page)
Vincent Carey
git_last_commit: 747e24e
git_last_commit_date: 2025-04-15 13:15:00 -0400
nebbiolo1Linux (Ubuntu 24.04.3 LTS) / x86_64  OK    ERROR  skipped
merida1macOS 12.7.5 Monterey / x86_64... NOT SUPPORTED ...
kjohnson1macOS 13.6.6 Ventura / arm64... NOT SUPPORTED ...
kunpeng2Linux (openEuler 24.03 LTS) / aarch64  OK    OK    OK  
Package 10/80HostnameOS / ArchINSTALLBUILDCHECKBUILD BIN
BiocPkgTools 1.26.4  (landing page)
Sean Davis
git_last_commit: d5a2d37
git_last_commit_date: 2025-09-10 15:22:18 -0400
nebbiolo1Linux (Ubuntu 24.04.3 LTS) / x86_64  OK    OK    OK  UNNEEDED, same version is already published
merida1macOS 12.7.5 Monterey / x86_64  OK    OK    OK    OK  UNNEEDED, same version is already published
kjohnson1macOS 13.6.6 Ventura / arm64  OK    OK    OK    OK  UNNEEDED, same version is already published
kunpeng2Linux (openEuler 24.03 LTS) / aarch64  OK    OK    OK  
Package 11/80HostnameOS / ArchINSTALLBUILDCHECKBUILD BIN
biomaRt 2.64.0  (landing page)
Mike Smith
git_last_commit: ef2f165
git_last_commit_date: 2025-04-15 09:35:52 -0400
nebbiolo1Linux (Ubuntu 24.04.3 LTS) / x86_64  OK    OK    OK  UNNEEDED, same version is already published
merida1macOS 12.7.5 Monterey / x86_64  OK    OK    OK    OK  UNNEEDED, same version is already published
kjohnson1macOS 13.6.6 Ventura / arm64  OK    OK    OK    OK  UNNEEDED, same version is already published
kunpeng2Linux (openEuler 24.03 LTS) / aarch64  OK    OK    OK  
Package 12/80HostnameOS / ArchINSTALLBUILDCHECKBUILD BIN
brendaDb 1.22.0  (landing page)
Yi Zhou
git_last_commit: 3aab39b
git_last_commit_date: 2025-04-15 11:49:08 -0400
nebbiolo1Linux (Ubuntu 24.04.3 LTS) / x86_64  OK    OK    OK  UNNEEDED, same version is already published
merida1macOS 12.7.5 Monterey / x86_64  OK    OK    OK    OK  UNNEEDED, same version is already published
kjohnson1macOS 13.6.6 Ventura / arm64  OK    OK    OK    OK  UNNEEDED, same version is already published
kunpeng2Linux (openEuler 24.03 LTS) / aarch64  OK    OK    OK  
Package 13/80HostnameOS / ArchINSTALLBUILDCHECKBUILD BIN
bugsigdbr 1.14.3  (landing page)
Ludwig Geistlinger
git_last_commit: 6b1d991
git_last_commit_date: 2025-05-29 12:58:40 -0400
nebbiolo1Linux (Ubuntu 24.04.3 LTS) / x86_64  OK    OK    OK  UNNEEDED, same version is already published
merida1macOS 12.7.5 Monterey / x86_64  OK    OK    OK    OK  UNNEEDED, same version is already published
kjohnson1macOS 13.6.6 Ventura / arm64  OK    OK    OK    OK  UNNEEDED, same version is already published
kunpeng2Linux (openEuler 24.03 LTS) / aarch64  OK    OK    OK  
Package 14/80HostnameOS / ArchINSTALLBUILDCHECKBUILD BIN
BulkSignalR 1.0.5  (landing page)
Jean-Philippe Villemin
git_last_commit: 84707b3
git_last_commit_date: 2025-09-27 05:41:27 -0400
nebbiolo1Linux (Ubuntu 24.04.3 LTS) / x86_64  OK    OK    OK  UNNEEDED, same version is already published
merida1macOS 12.7.5 Monterey / x86_64  OK    OK    OK    OK  UNNEEDED, same version is already published
kjohnson1macOS 13.6.6 Ventura / arm64  OK    OK    OK    OK  UNNEEDED, same version is already published
kunpeng2Linux (openEuler 24.03 LTS) / aarch64  OK    OK    OK  
Package 15/80HostnameOS / ArchINSTALLBUILDCHECKBUILD BIN
cbaf 1.30.0  (landing page)
Arman Shahrisa
git_last_commit: cfa9978
git_last_commit_date: 2025-04-15 11:14:42 -0400
nebbiolo1Linux (Ubuntu 24.04.3 LTS) / x86_64  OK    OK    OK  UNNEEDED, same version is already published
merida1macOS 12.7.5 Monterey / x86_64  OK    OK    OK    OK  UNNEEDED, same version is already published
kjohnson1macOS 13.6.6 Ventura / arm64  OK    OK    OK    OK  UNNEEDED, same version is already published
kunpeng2Linux (openEuler 24.03 LTS) / aarch64  OK    OK    OK  
Package 16/80HostnameOS / ArchINSTALLBUILDCHECKBUILD BIN
cBioPortalData 2.20.0  (landing page)
Marcel Ramos
git_last_commit: e2964c0
git_last_commit_date: 2025-04-15 11:58:59 -0400
nebbiolo1Linux (Ubuntu 24.04.3 LTS) / x86_64  OK    OK    OK  UNNEEDED, same version is already published
merida1macOS 12.7.5 Monterey / x86_64  OK    OK    OK    OK  UNNEEDED, same version is already published
kjohnson1macOS 13.6.6 Ventura / arm64  OK    OK    OK    OK  UNNEEDED, same version is already published
kunpeng2Linux (openEuler 24.03 LTS) / aarch64  OK    OK    OK  
Package 17/80HostnameOS / ArchINSTALLBUILDCHECKBUILD BIN
CBNplot 1.8.0  (landing page)
Noriaki Sato
git_last_commit: a9f143f
git_last_commit_date: 2025-04-15 13:13:48 -0400
nebbiolo1Linux (Ubuntu 24.04.3 LTS) / x86_64  OK    OK    OK  UNNEEDED, same version is already published
merida1macOS 12.7.5 Monterey / x86_64  OK    OK    OK    OK  UNNEEDED, same version is already published
kjohnson1macOS 13.6.6 Ventura / arm64  OK    OK    OK    OK  UNNEEDED, same version is already published
kunpeng2Linux (openEuler 24.03 LTS) / aarch64  OK    OK    OK  
Package 18/80HostnameOS / ArchINSTALLBUILDCHECKBUILD BIN
CellBench 1.24.0  (landing page)
Shian Su
git_last_commit: 821152f
git_last_commit_date: 2025-04-15 11:41:45 -0400
nebbiolo1Linux (Ubuntu 24.04.3 LTS) / x86_64  OK    OK    OK  UNNEEDED, same version is already published
merida1macOS 12.7.5 Monterey / x86_64  OK    OK    OK    OK  UNNEEDED, same version is already published
kjohnson1macOS 13.6.6 Ventura / arm64  OK    OK    OK    OK  UNNEEDED, same version is already published
kunpeng2Linux (openEuler 24.03 LTS) / aarch64  OK    OK    OK  
Package 19/80HostnameOS / ArchINSTALLBUILDCHECKBUILD BIN
CTDquerier 2.16.0  (landing page)
Xavier Escribà-Montagut
git_last_commit: 7cc8a9b
git_last_commit_date: 2025-04-15 12:22:08 -0400
nebbiolo1Linux (Ubuntu 24.04.3 LTS) / x86_64  OK    OK    WARNINGS  UNNEEDED, same version is already published
merida1macOS 12.7.5 Monterey / x86_64  OK    OK    WARNINGS    OK  UNNEEDED, same version is already published
kjohnson1macOS 13.6.6 Ventura / arm64  OK    OK    WARNINGS    OK  UNNEEDED, same version is already published
kunpeng2Linux (openEuler 24.03 LTS) / aarch64  OK    OK    WARNINGS  
Package 20/80HostnameOS / ArchINSTALLBUILDCHECKBUILD BIN
customCMPdb 1.18.0  (landing page)
Yuzhu Duan
git_last_commit: 170349f
git_last_commit_date: 2025-04-15 12:11:05 -0400
nebbiolo1Linux (Ubuntu 24.04.3 LTS) / x86_64  OK    OK    OK  UNNEEDED, same version is already published
merida1macOS 12.7.5 Monterey / x86_64  OK    OK    OK    OK  UNNEEDED, same version is already published
kjohnson1macOS 13.6.6 Ventura / arm64  OK    OK    OK    OK  UNNEEDED, same version is already published
kunpeng2Linux (openEuler 24.03 LTS) / aarch64  OK    OK    OK  
Package 21/80HostnameOS / ArchINSTALLBUILDCHECKBUILD BIN
CytoPipeline 1.8.0  (landing page)
Philippe Hauchamps
git_last_commit: ce2b0d6
git_last_commit_date: 2025-04-15 13:01:58 -0400
nebbiolo1Linux (Ubuntu 24.04.3 LTS) / x86_64  OK    OK    OK  UNNEEDED, same version is already published
merida1macOS 12.7.5 Monterey / x86_64  OK    OK    OK    OK  UNNEEDED, same version is already published
kjohnson1macOS 13.6.6 Ventura / arm64  OK    OK    OK    OK  UNNEEDED, same version is already published
kunpeng2Linux (openEuler 24.03 LTS) / aarch64  OK    OK    OK  
Package 22/80HostnameOS / ArchINSTALLBUILDCHECKBUILD BIN
DeconvoBuddies 1.0.1  (landing page)
Louise Huuki-Myers
git_last_commit: 1e5a837
git_last_commit_date: 2025-06-26 13:18:58 -0400
nebbiolo1Linux (Ubuntu 24.04.3 LTS) / x86_64  OK    ERROR  skipped
merida1macOS 12.7.5 Monterey / x86_64  OK    ERROR  skippedskipped
kjohnson1macOS 13.6.6 Ventura / arm64  OK    ERROR  skippedskipped
kunpeng2Linux (openEuler 24.03 LTS) / aarch64  OK    OK    OK  
Package 23/80HostnameOS / ArchINSTALLBUILDCHECKBUILD BIN
DeProViR 1.4.0  (landing page)
Matineh Rahmatbakhsh
git_last_commit: 0e756c6
git_last_commit_date: 2025-04-15 13:28:04 -0400
nebbiolo1Linux (Ubuntu 24.04.3 LTS) / x86_64  OK    ERROR  skipped
merida1macOS 12.7.5 Monterey / x86_64  OK    OK    OK    OK  UNNEEDED, same version is already published
kjohnson1macOS 13.6.6 Ventura / arm64  OK    ERROR  skippedskipped
kunpeng2Linux (openEuler 24.03 LTS) / aarch64  OK    ERROR  skipped
Package 24/80HostnameOS / ArchINSTALLBUILDCHECKBUILD BIN
drugTargetInteractions 1.16.0  (landing page)
Thomas Girke
git_last_commit: cecbd83
git_last_commit_date: 2025-04-15 12:24:17 -0400
nebbiolo1Linux (Ubuntu 24.04.3 LTS) / x86_64  OK    OK    OK  UNNEEDED, same version is already published
merida1macOS 12.7.5 Monterey / x86_64  OK    OK    OK    OK  UNNEEDED, same version is already published
kjohnson1macOS 13.6.6 Ventura / arm64  OK    OK    OK    OK  UNNEEDED, same version is already published
kunpeng2Linux (openEuler 24.03 LTS) / aarch64  OK    OK    OK  
Package 25/80HostnameOS / ArchINSTALLBUILDCHECKBUILD BIN
easylift 1.6.0  (landing page)
Abdullah Al Nahid
git_last_commit: ea18a53
git_last_commit_date: 2025-04-15 13:20:46 -0400
nebbiolo1Linux (Ubuntu 24.04.3 LTS) / x86_64  OK    OK    OK  UNNEEDED, same version is already published
merida1macOS 12.7.5 Monterey / x86_64  OK    OK    OK    OK  UNNEEDED, same version is already published
kjohnson1macOS 13.6.6 Ventura / arm64  OK    OK    OK    OK  UNNEEDED, same version is already published
kunpeng2Linux (openEuler 24.03 LTS) / aarch64  OK    OK    OK  
Package 26/80HostnameOS / ArchINSTALLBUILDCHECKBUILD BIN
easyRNASeq 2.44.0  (landing page)
Nicolas Delhomme
git_last_commit: 8c15d8f
git_last_commit_date: 2025-04-15 10:12:08 -0400
nebbiolo1Linux (Ubuntu 24.04.3 LTS) / x86_64  OK    OK    WARNINGS  UNNEEDED, same version is already published
merida1macOS 12.7.5 Monterey / x86_64  OK    OK    WARNINGS    OK  UNNEEDED, same version is already published
kjohnson1macOS 13.6.6 Ventura / arm64  OK    OK    WARNINGS    OK  UNNEEDED, same version is already published
kunpeng2Linux (openEuler 24.03 LTS) / aarch64  OK    OK    WARNINGS  
Package 27/80HostnameOS / ArchINSTALLBUILDCHECKBUILD BIN
enhancerHomologSearch 1.14.0  (landing page)
Jianhong Ou
git_last_commit: 8e1b942
git_last_commit_date: 2025-04-15 12:36:26 -0400
nebbiolo1Linux (Ubuntu 24.04.3 LTS) / x86_64  OK    OK    OK  UNNEEDED, same version is already published
merida1macOS 12.7.5 Monterey / x86_64  OK    OK    OK    OK  UNNEEDED, same version is already published
kjohnson1macOS 13.6.6 Ventura / arm64  OK    OK    OK    OK  UNNEEDED, same version is already published
kunpeng2Linux (openEuler 24.03 LTS) / aarch64  OK    OK    OK  
Package 28/80HostnameOS / ArchINSTALLBUILDCHECKBUILD BIN
EnMCB 1.20.0  (landing page)
Xin Yu
git_last_commit: 318fb87
git_last_commit_date: 2025-04-15 11:53:15 -0400
nebbiolo1Linux (Ubuntu 24.04.3 LTS) / x86_64  OK    OK    OK  UNNEEDED, same version is already published
merida1macOS 12.7.5 Monterey / x86_64  OK    OK    OK    OK  UNNEEDED, same version is already published
kjohnson1macOS 13.6.6 Ventura / arm64  OK    OK    OK    OK  UNNEEDED, same version is already published
kunpeng2Linux (openEuler 24.03 LTS) / aarch64  OK    OK    OK  
Package 29/80HostnameOS / ArchINSTALLBUILDCHECKBUILD BIN
EnrichmentBrowser 2.38.1  (landing page)
Ludwig Geistlinger
git_last_commit: 9d08344
git_last_commit_date: 2025-08-28 15:58:59 -0400
nebbiolo1Linux (Ubuntu 24.04.3 LTS) / x86_64  OK    OK    OK  UNNEEDED, same version is already published
merida1macOS 12.7.5 Monterey / x86_64  OK    OK    OK    OK  UNNEEDED, same version is already published
kjohnson1macOS 13.6.6 Ventura / arm64  OK    OK    OK    OK  UNNEEDED, same version is already published
kunpeng2Linux (openEuler 24.03 LTS) / aarch64  OK    OK    OK  
Package 30/80HostnameOS / ArchINSTALLBUILDCHECKBUILD BIN
EpiTxDb 1.20.0  (landing page)
Felix G.M. Ernst
git_last_commit: 08a3770
git_last_commit_date: 2025-04-15 11:55:49 -0400
nebbiolo1Linux (Ubuntu 24.04.3 LTS) / x86_64  OK    OK    WARNINGS  UNNEEDED, same version is already published
merida1macOS 12.7.5 Monterey / x86_64  OK    OK    WARNINGS    OK  UNNEEDED, same version is already published
kjohnson1macOS 13.6.6 Ventura / arm64  OK    OK    WARNINGS    OK  UNNEEDED, same version is already published
kunpeng2Linux (openEuler 24.03 LTS) / aarch64  OK    OK    WARNINGS  
Package 31/80HostnameOS / ArchINSTALLBUILDCHECKBUILD BIN
ExperimentHub 2.16.1  (landing page)
Bioconductor Package Maintainer
git_last_commit: f7c72cc
git_last_commit_date: 2025-07-17 14:43:28 -0400
nebbiolo1Linux (Ubuntu 24.04.3 LTS) / x86_64  OK    OK    WARNINGS  UNNEEDED, same version is already published
merida1macOS 12.7.5 Monterey / x86_64  OK    OK    WARNINGS    OK  UNNEEDED, same version is already published
kjohnson1macOS 13.6.6 Ventura / arm64  OK    OK    WARNINGS    OK  UNNEEDED, same version is already published
kunpeng2Linux (openEuler 24.03 LTS) / aarch64  OK    OK    WARNINGS  
Package 32/80HostnameOS / ArchINSTALLBUILDCHECKBUILD BIN
fenr 1.6.2  (landing page)
Marek Gierlinski
git_last_commit: c7b2903
git_last_commit_date: 2025-09-23 04:19:50 -0400
nebbiolo1Linux (Ubuntu 24.04.3 LTS) / x86_64  OK    OK    OK  UNNEEDED, same version is already published
merida1macOS 12.7.5 Monterey / x86_64  OK    OK    OK    OK  UNNEEDED, same version is already published
kjohnson1macOS 13.6.6 Ventura / arm64  OK    OK    OK    OK  UNNEEDED, same version is already published
kunpeng2Linux (openEuler 24.03 LTS) / aarch64  OK    OK    ERROR  
Package 33/80HostnameOS / ArchINSTALLBUILDCHECKBUILD BIN
fgga 1.16.0  (landing page)
Flavio Spetale
git_last_commit: 74a4c71
git_last_commit_date: 2025-04-15 12:29:39 -0400
nebbiolo1Linux (Ubuntu 24.04.3 LTS) / x86_64  OK    OK    OK  UNNEEDED, same version is already published
merida1macOS 12.7.5 Monterey / x86_64  OK    OK    OK    OK  UNNEEDED, same version is already published
kjohnson1macOS 13.6.6 Ventura / arm64  OK    OK    OK    OK  UNNEEDED, same version is already published
kunpeng2Linux (openEuler 24.03 LTS) / aarch64  OK    OK    OK  
Package 34/80HostnameOS / ArchINSTALLBUILDCHECKBUILD BIN
GeDi 1.4.0  (landing page)
Annekathrin Nedwed
git_last_commit: cb67e9f
git_last_commit_date: 2025-04-15 13:33:55 -0400
nebbiolo1Linux (Ubuntu 24.04.3 LTS) / x86_64  ERROR    ERROR  skipped
merida1macOS 12.7.5 Monterey / x86_64  ERROR    ERROR  skippedskipped
kjohnson1macOS 13.6.6 Ventura / arm64  ERROR    ERROR  skippedskipped
kunpeng2Linux (openEuler 24.03 LTS) / aarch64  OK    OK    OK  
Package 35/80HostnameOS / ArchINSTALLBUILDCHECKBUILD BIN
GenomicScores 2.20.2  (landing page)
Robert Castelo
git_last_commit: c3dc09e
git_last_commit_date: 2025-07-04 13:23:05 -0400
nebbiolo1Linux (Ubuntu 24.04.3 LTS) / x86_64  OK    OK    OK  UNNEEDED, same version is already published
merida1macOS 12.7.5 Monterey / x86_64  OK    OK    OK    OK  UNNEEDED, same version is already published
kjohnson1macOS 13.6.6 Ventura / arm64  OK    OK    OK    OK  UNNEEDED, same version is already published
kunpeng2Linux (openEuler 24.03 LTS) / aarch64  OK    OK    OK  
Package 36/80HostnameOS / ArchINSTALLBUILDCHECKBUILD BIN
GenomicSuperSignature 1.16.1  (landing page)
Sehyun Oh
git_last_commit: 08fd55f
git_last_commit_date: 2025-05-08 12:28:02 -0400
nebbiolo1Linux (Ubuntu 24.04.3 LTS) / x86_64  OK    OK    WARNINGS  UNNEEDED, same version is already published
merida1macOS 12.7.5 Monterey / x86_64  OK    OK    WARNINGS    OK  UNNEEDED, same version is already published
kjohnson1macOS 13.6.6 Ventura / arm64  OK    OK    WARNINGS    OK  UNNEEDED, same version is already published
kunpeng2Linux (openEuler 24.03 LTS) / aarch64  OK    OK    WARNINGS  
Package 37/80HostnameOS / ArchINSTALLBUILDCHECKBUILD BIN
ggkegg 1.6.1  (landing page)
Noriaki Sato
git_last_commit: 9bf164c
git_last_commit_date: 2025-09-23 21:43:08 -0400
nebbiolo1Linux (Ubuntu 24.04.3 LTS) / x86_64  OK    OK    ERROR  
merida1macOS 12.7.5 Monterey / x86_64  OK    OK    ERROR    OK  
kjohnson1macOS 13.6.6 Ventura / arm64  OK    OK    ERROR    OK  
kunpeng2Linux (openEuler 24.03 LTS) / aarch64  OK    ERROR  skipped
Package 38/80HostnameOS / ArchINSTALLBUILDCHECKBUILD BIN
GSEABenchmarkeR 1.28.1  (landing page)
Ludwig Geistlinger
git_last_commit: b2a9d81
git_last_commit_date: 2025-05-08 12:44:01 -0400
nebbiolo1Linux (Ubuntu 24.04.3 LTS) / x86_64  OK    OK    OK  UNNEEDED, same version is already published
merida1macOS 12.7.5 Monterey / x86_64  OK    OK    OK    OK  UNNEEDED, same version is already published
kjohnson1macOS 13.6.6 Ventura / arm64  OK    OK    OK    OK  UNNEEDED, same version is already published
kunpeng2Linux (openEuler 24.03 LTS) / aarch64  OK    OK    TIMEOUT  
Package 39/80HostnameOS / ArchINSTALLBUILDCHECKBUILD BIN
gwascat 2.40.0  (landing page)
VJ Carey
git_last_commit: 65b07e3
git_last_commit_date: 2025-04-15 10:12:42 -0400
nebbiolo1Linux (Ubuntu 24.04.3 LTS) / x86_64  OK    OK    OK  UNNEEDED, same version is already published
merida1macOS 12.7.5 Monterey / x86_64  OK    OK    OK    OK  UNNEEDED, same version is already published
kjohnson1macOS 13.6.6 Ventura / arm64  OK    OK    OK    OK  UNNEEDED, same version is already published
kunpeng2Linux (openEuler 24.03 LTS) / aarch64  OK    OK    OK  
Package 40/80HostnameOS / ArchINSTALLBUILDCHECKBUILD BIN
hca 1.16.0  (landing page)
Martin Morgan
git_last_commit: 3c99355
git_last_commit_date: 2025-04-15 12:20:46 -0400
nebbiolo1Linux (Ubuntu 24.04.3 LTS) / x86_64  OK    ERROR  skipped
merida1macOS 12.7.5 Monterey / x86_64  OK    ERROR  skippedskipped
kjohnson1macOS 13.6.6 Ventura / arm64  OK    ERROR  skippedskipped
kunpeng2Linux (openEuler 24.03 LTS) / aarch64  OK    ERROR  skipped
Package 41/80HostnameOS / ArchINSTALLBUILDCHECKBUILD BIN
iSEEindex 1.6.0  (landing page)
Kevin Rue-Albrecht
git_last_commit: 9b30694
git_last_commit_date: 2025-04-15 13:17:28 -0400
nebbiolo1Linux (Ubuntu 24.04.3 LTS) / x86_64  OK    OK    OK  UNNEEDED, same version is already published
merida1macOS 12.7.5 Monterey / x86_64  OK    OK    OK    OK  UNNEEDED, same version is already published
kjohnson1macOS 13.6.6 Ventura / arm64  OK    OK    OK    OK  UNNEEDED, same version is already published
kunpeng2Linux (openEuler 24.03 LTS) / aarch64  OK    OK    OK  
Package 42/80HostnameOS / ArchINSTALLBUILDCHECKBUILD BIN
MBQN 2.20.0  (landing page)
Eva Brombacher
git_last_commit: e37dde6
git_last_commit_date: 2025-04-15 11:51:49 -0400
nebbiolo1Linux (Ubuntu 24.04.3 LTS) / x86_64  OK    OK    OK  UNNEEDED, same version is already published
merida1macOS 12.7.5 Monterey / x86_64  OK    OK    OK    OK  UNNEEDED, same version is already published
kjohnson1macOS 13.6.6 Ventura / arm64  OK    OK    OK    OK  UNNEEDED, same version is already published
kunpeng2Linux (openEuler 24.03 LTS) / aarch64  OK    OK    OK  
Package 43/80HostnameOS / ArchINSTALLBUILDCHECKBUILD BIN
MIRit 1.4.2  (landing page)
Jacopo Ronchi
git_last_commit: 9674429
git_last_commit_date: 2025-09-18 06:42:11 -0400
nebbiolo1Linux (Ubuntu 24.04.3 LTS) / x86_64  OK    OK    OK  UNNEEDED, same version is already published
merida1macOS 12.7.5 Monterey / x86_64  OK    OK    OK    OK  UNNEEDED, same version is already published
kjohnson1macOS 13.6.6 Ventura / arm64  OK    OK    OK    OK  UNNEEDED, same version is already published
kunpeng2Linux (openEuler 24.03 LTS) / aarch64  OK    OK    OK  
Package 44/80HostnameOS / ArchINSTALLBUILDCHECKBUILD BIN
motifbreakR 2.22.0  (landing page)
Simon Gert Coetzee
git_last_commit: f754fca
git_last_commit_date: 2025-04-15 10:53:23 -0400
nebbiolo1Linux (Ubuntu 24.04.3 LTS) / x86_64  OK    OK    WARNINGS  UNNEEDED, same version is already published
merida1macOS 12.7.5 Monterey / x86_64  OK    OK    WARNINGS    OK  UNNEEDED, same version is already published
kjohnson1macOS 13.6.6 Ventura / arm64  OK    OK    WARNINGS    OK  UNNEEDED, same version is already published
kunpeng2Linux (openEuler 24.03 LTS) / aarch64  OK    OK    WARNINGS  
Package 45/80HostnameOS / ArchINSTALLBUILDCHECKBUILD BIN
MotifPeeker 1.0.0  (landing page)
Hiranyamaya Dash
git_last_commit: defac3c
git_last_commit_date: 2025-04-15 13:44:12 -0400
nebbiolo1Linux (Ubuntu 24.04.3 LTS) / x86_64  OK    OK    OK  UNNEEDED, same version is already published
merida1macOS 12.7.5 Monterey / x86_64  OK    OK    OK    OK  UNNEEDED, same version is already published
kjohnson1macOS 13.6.6 Ventura / arm64  OK    OK    OK    OK  UNNEEDED, same version is already published
kunpeng2Linux (openEuler 24.03 LTS) / aarch64  OK    OK    OK  
Package 46/80HostnameOS / ArchINSTALLBUILDCHECKBUILD BIN
MsBackendMetaboLights 1.2.0  (landing page)
Johannes Rainer
git_last_commit: 681a2dd
git_last_commit_date: 2025-04-15 13:42:03 -0400
nebbiolo1Linux (Ubuntu 24.04.3 LTS) / x86_64  OK    OK    ERROR  
merida1macOS 12.7.5 Monterey / x86_64  OK    OK    OK    OK  UNNEEDED, same version is already published
kjohnson1macOS 13.6.6 Ventura / arm64  OK    OK    OK    OK  UNNEEDED, same version is already published
kunpeng2Linux (openEuler 24.03 LTS) / aarch64  OK    OK    OK  
Package 47/80HostnameOS / ArchINSTALLBUILDCHECKBUILD BIN
netDx 1.20.0  (landing page)
Shraddha Pai
git_last_commit: ba098e1
git_last_commit_date: 2025-04-15 11:54:11 -0400
nebbiolo1Linux (Ubuntu 24.04.3 LTS) / x86_64  OK    ERROR  skipped
merida1macOS 12.7.5 Monterey / x86_64  OK    ERROR  skippedskipped
kjohnson1macOS 13.6.6 Ventura / arm64  OK    ERROR  skippedskipped
kunpeng2Linux (openEuler 24.03 LTS) / aarch64  OK    OK    OK  
Package 48/80HostnameOS / ArchINSTALLBUILDCHECKBUILD BIN
OmicsMLRepoR 1.2.0  (landing page)
Sehyun Oh
git_last_commit: 071d7a6
git_last_commit_date: 2025-04-15 13:43:04 -0400
nebbiolo1Linux (Ubuntu 24.04.3 LTS) / x86_64  OK    OK    OK  UNNEEDED, same version is already published
merida1macOS 12.7.5 Monterey / x86_64  OK    OK    OK    OK  UNNEEDED, same version is already published
kjohnson1macOS 13.6.6 Ventura / arm64  OK    OK    OK    OK  UNNEEDED, same version is already published
kunpeng2Linux (openEuler 24.03 LTS) / aarch64  OK    OK    OK  
Package 49/80HostnameOS / ArchINSTALLBUILDCHECKBUILD BIN
ontoProc 2.2.4  (landing page)
Vincent Carey
git_last_commit: 67dc810
git_last_commit_date: 2025-08-10 15:18:15 -0400
nebbiolo1Linux (Ubuntu 24.04.3 LTS) / x86_64  OK    ERROR  skipped
merida1macOS 12.7.5 Monterey / x86_64  OK    ERROR  skippedskipped
kjohnson1macOS 13.6.6 Ventura / arm64  OK    ERROR  skippedskipped
kunpeng2Linux (openEuler 24.03 LTS) / aarch64  OK    ERROR  skipped
Package 50/80HostnameOS / ArchINSTALLBUILDCHECKBUILD BIN
ORFik 1.28.3  (landing page)
Haakon Tjeldnes
git_last_commit: 7cf3d1e
git_last_commit_date: 2025-09-22 04:08:21 -0400
nebbiolo1Linux (Ubuntu 24.04.3 LTS) / x86_64  OK    OK    OK  UNNEEDED, same version is already published
merida1macOS 12.7.5 Monterey / x86_64  OK    OK    OK    OK  UNNEEDED, same version is already published
kjohnson1macOS 13.6.6 Ventura / arm64  OK    OK    OK    OK  UNNEEDED, same version is already published
kunpeng2Linux (openEuler 24.03 LTS) / aarch64  OK    OK    OK  
Package 51/80HostnameOS / ArchINSTALLBUILDCHECKBUILD BIN
Organism.dplyr 1.36.0  (landing page)
Martin Morgan
git_last_commit: ce6ab7d
git_last_commit_date: 2025-04-15 11:09:06 -0400
nebbiolo1Linux (Ubuntu 24.04.3 LTS) / x86_64  OK    OK    OK  UNNEEDED, same version is already published
merida1macOS 12.7.5 Monterey / x86_64  OK    OK    OK    OK  UNNEEDED, same version is already published
kjohnson1macOS 13.6.6 Ventura / arm64  OK    OK    OK    OK  UNNEEDED, same version is already published
kunpeng2Linux (openEuler 24.03 LTS) / aarch64  OK    OK    OK  
Package 52/80HostnameOS / ArchINSTALLBUILDCHECKBUILD BIN
OSTA.data 1.0.0  (landing page)
Yixing E. Dong
git_last_commit: 6d32e00
git_last_commit_date: 2025-04-15 13:48:14 -0400
nebbiolo1Linux (Ubuntu 24.04.3 LTS) / x86_64  OK    OK    OK  UNNEEDED, same version is already published
merida1macOS 12.7.5 Monterey / x86_64  OK    OK    OK    OK  UNNEEDED, same version is already published
kjohnson1macOS 13.6.6 Ventura / arm64  OK    OK    OK    OK  UNNEEDED, same version is already published
kunpeng2Linux (openEuler 24.03 LTS) / aarch64  OK    ERROR  skipped
Package 53/80HostnameOS / ArchINSTALLBUILDCHECKBUILD BIN
PhIPData 1.16.1  (landing page)
Athena Chen
git_last_commit: c2bad37
git_last_commit_date: 2025-05-08 12:29:24 -0400
nebbiolo1Linux (Ubuntu 24.04.3 LTS) / x86_64  OK    OK    OK  UNNEEDED, same version is already published
merida1macOS 12.7.5 Monterey / x86_64  OK    OK    OK    OK  UNNEEDED, same version is already published
kjohnson1macOS 13.6.6 Ventura / arm64  OK    OK    OK    OK  UNNEEDED, same version is already published
kunpeng2Linux (openEuler 24.03 LTS) / aarch64  OK    OK    OK  
Package 54/80HostnameOS / ArchINSTALLBUILDCHECKBUILD BIN
psichomics 1.34.0  (landing page)
Nuno Saraiva-Agostinho
git_last_commit: 1e06f30
git_last_commit_date: 2025-04-15 11:06:18 -0400
nebbiolo1Linux (Ubuntu 24.04.3 LTS) / x86_64  OK    OK    OK  UNNEEDED, same version is already published
merida1macOS 12.7.5 Monterey / x86_64  OK    OK    OK    OK  UNNEEDED, same version is already published
kjohnson1macOS 13.6.6 Ventura / arm64  OK    OK    OK    OK  UNNEEDED, same version is already published
kunpeng2Linux (openEuler 24.03 LTS) / aarch64  OK    OK    OK  
Package 55/80HostnameOS / ArchINSTALLBUILDCHECKBUILD BIN
rBLAST 1.4.0  (landing page)
Michael Hahsler
git_last_commit: fb56e76
git_last_commit_date: 2025-04-15 13:34:39 -0400
nebbiolo1Linux (Ubuntu 24.04.3 LTS) / x86_64  OK    OK    OK  UNNEEDED, same version is already published
merida1macOS 12.7.5 Monterey / x86_64  OK    OK    OK    OK  UNNEEDED, same version is already published
kjohnson1macOS 13.6.6 Ventura / arm64  OK    OK    OK    OK  UNNEEDED, same version is already published
kunpeng2Linux (openEuler 24.03 LTS) / aarch64  OK    OK    OK  
Package 56/80HostnameOS / ArchINSTALLBUILDCHECKBUILD BIN
RcwlPipelines 1.24.0  (landing page)
Qiang Hu
git_last_commit: 9368b16
git_last_commit_date: 2025-04-15 11:42:13 -0400
nebbiolo1Linux (Ubuntu 24.04.3 LTS) / x86_64  OK    OK    OK  UNNEEDED, same version is already published
merida1macOS 12.7.5 Monterey / x86_64  OK    OK    OK    OK  UNNEEDED, same version is already published
kjohnson1macOS 13.6.6 Ventura / arm64  OK    OK    OK    OK  UNNEEDED, same version is already published
kunpeng2Linux (openEuler 24.03 LTS) / aarch64  OK    OK    OK  
Package 57/80HostnameOS / ArchINSTALLBUILDCHECKBUILD BIN
recount3 1.18.0  (landing page)
Leonardo Collado-Torres
git_last_commit: b84a7fc
git_last_commit_date: 2025-04-15 12:11:39 -0400
nebbiolo1Linux (Ubuntu 24.04.3 LTS) / x86_64  OK    OK    OK  UNNEEDED, same version is already published
merida1macOS 12.7.5 Monterey / x86_64  OK    OK    OK    OK  UNNEEDED, same version is already published
kjohnson1macOS 13.6.6 Ventura / arm64  OK    OK    OK    OK  UNNEEDED, same version is already published
kunpeng2Linux (openEuler 24.03 LTS) / aarch64  OK    OK    OK  
Package 58/80HostnameOS / ArchINSTALLBUILDCHECKBUILD BIN
recountmethylation 1.18.0  (landing page)
Sean K Maden
git_last_commit: cb06ac6
git_last_commit_date: 2025-04-15 12:08:00 -0400
nebbiolo1Linux (Ubuntu 24.04.3 LTS) / x86_64  OK    OK    OK  UNNEEDED, same version is already published
merida1macOS 12.7.5 Monterey / x86_64  OK    OK    OK    OK  UNNEEDED, same version is already published
kjohnson1macOS 13.6.6 Ventura / arm64  OK    OK    OK    OK  UNNEEDED, same version is already published
kunpeng2Linux (openEuler 24.03 LTS) / aarch64  OK    OK    OK  
Package 59/80HostnameOS / ArchINSTALLBUILDCHECKBUILD BIN
regutools 1.20.0  (landing page)
Joselyn Chavez
git_last_commit: a041a7b
git_last_commit_date: 2025-04-15 11:58:14 -0400
nebbiolo1Linux (Ubuntu 24.04.3 LTS) / x86_64  OK    OK    OK  UNNEEDED, same version is already published
merida1macOS 12.7.5 Monterey / x86_64  OK    OK    OK    OK  UNNEEDED, same version is already published
kjohnson1macOS 13.6.6 Ventura / arm64  OK    OK    OK    OK  UNNEEDED, same version is already published
kunpeng2Linux (openEuler 24.03 LTS) / aarch64  OK    OK    OK  
Package 60/80HostnameOS / ArchINSTALLBUILDCHECKBUILD BIN
ReUseData 1.8.0  (landing page)
Qian Liu
git_last_commit: 601a107
git_last_commit_date: 2025-04-15 13:01:44 -0400
nebbiolo1Linux (Ubuntu 24.04.3 LTS) / x86_64  OK    OK    OK  UNNEEDED, same version is already published
merida1macOS 12.7.5 Monterey / x86_64  OK    OK    OK    OK  UNNEEDED, same version is already published
kjohnson1macOS 13.6.6 Ventura / arm64  OK    OK    OK    OK  UNNEEDED, same version is already published
kunpeng2Linux (openEuler 24.03 LTS) / aarch64  OK    OK    OK  
Package 61/80HostnameOS / ArchINSTALLBUILDCHECKBUILD BIN
RiboDiPA 1.16.0  (landing page)
Ji-Ping Wang
git_last_commit: 6888e6d
git_last_commit_date: 2025-04-15 12:17:57 -0400
nebbiolo1Linux (Ubuntu 24.04.3 LTS) / x86_64  OK    OK    OK  UNNEEDED, same version is already published
merida1macOS 12.7.5 Monterey / x86_64  OK    OK    OK    OK  UNNEEDED, same version is already published
kjohnson1macOS 13.6.6 Ventura / arm64  OK    OK    OK    OK  UNNEEDED, same version is already published
kunpeng2Linux (openEuler 24.03 LTS) / aarch64  OK    OK    OK  
Package 62/80HostnameOS / ArchINSTALLBUILDCHECKBUILD BIN
rpx 2.16.0  (landing page)
Laurent Gatto
git_last_commit: 9deb309
git_last_commit_date: 2025-04-15 10:29:33 -0400
nebbiolo1Linux (Ubuntu 24.04.3 LTS) / x86_64  OK    OK    OK  UNNEEDED, same version is already published
merida1macOS 12.7.5 Monterey / x86_64  OK    OK    OK    OK  UNNEEDED, same version is already published
kjohnson1macOS 13.6.6 Ventura / arm64  OK    OK    OK    OK  UNNEEDED, same version is already published
kunpeng2Linux (openEuler 24.03 LTS) / aarch64  OK    OK    OK  
Package 63/80HostnameOS / ArchINSTALLBUILDCHECKBUILD BIN
scviR 1.8.0  (landing page)
Vincent Carey
git_last_commit: a4f406f
git_last_commit_date: 2025-04-15 13:10:58 -0400
nebbiolo1Linux (Ubuntu 24.04.3 LTS) / x86_64  OK    OK    OK  UNNEEDED, same version is already published
merida1macOS 12.7.5 Monterey / x86_64  OK    ERROR  skippedskipped
kjohnson1macOS 13.6.6 Ventura / arm64  OK    OK    OK    OK  UNNEEDED, same version is already published
kunpeng2Linux (openEuler 24.03 LTS) / aarch64  OK    ERROR  skipped
Package 64/80HostnameOS / ArchINSTALLBUILDCHECKBUILD BIN
sesame 1.26.0  (landing page)
Wanding Zhou
git_last_commit: bc933e0
git_last_commit_date: 2025-04-15 11:34:53 -0400
nebbiolo1Linux (Ubuntu 24.04.3 LTS) / x86_64  OK    OK    OK  UNNEEDED, same version is already published
merida1macOS 12.7.5 Monterey / x86_64  OK    OK    OK    OK  UNNEEDED, same version is already published
kjohnson1macOS 13.6.6 Ventura / arm64  OK    OK    OK    OK  UNNEEDED, same version is already published
kunpeng2Linux (openEuler 24.03 LTS) / aarch64  OK    OK    OK  
Package 65/80HostnameOS / ArchINSTALLBUILDCHECKBUILD BIN
signeR 2.10.0  (landing page)
Renan Valieris
git_last_commit: b6cdbe3
git_last_commit_date: 2025-04-15 11:05:00 -0400
nebbiolo1Linux (Ubuntu 24.04.3 LTS) / x86_64  OK    OK    WARNINGS  UNNEEDED, same version is already published
merida1macOS 12.7.5 Monterey / x86_64  OK    OK    WARNINGS    OK  UNNEEDED, same version is already published
kjohnson1macOS 13.6.6 Ventura / arm64  OK    OK    WARNINGS    OK  UNNEEDED, same version is already published
kunpeng2Linux (openEuler 24.03 LTS) / aarch64  OK    OK    OK  
Package 66/80HostnameOS / ArchINSTALLBUILDCHECKBUILD BIN
spacexr 1.0.0  (landing page)
Gabriel Grajeda
git_last_commit: a8a9650
git_last_commit_date: 2025-04-15 13:50:44 -0400
nebbiolo1Linux (Ubuntu 24.04.3 LTS) / x86_64  OK    OK    OK  UNNEEDED, same version is already published
merida1macOS 12.7.5 Monterey / x86_64  OK    OK    OK    OK  UNNEEDED, same version is already published
kjohnson1macOS 13.6.6 Ventura / arm64  OK    OK    OK    OK  UNNEEDED, same version is already published
kunpeng2Linux (openEuler 24.03 LTS) / aarch64  OK    OK    NA  
Package 67/80HostnameOS / ArchINSTALLBUILDCHECKBUILD BIN
SpatialExperiment 1.18.1  (landing page)
Dario Righelli
git_last_commit: a7ee918
git_last_commit_date: 2025-05-08 12:30:17 -0400
nebbiolo1Linux (Ubuntu 24.04.3 LTS) / x86_64  OK    OK    OK  UNNEEDED, same version is already published
merida1macOS 12.7.5 Monterey / x86_64  OK    OK    OK    OK  UNNEEDED, same version is already published
kjohnson1macOS 13.6.6 Ventura / arm64  OK    OK    OK    OK  UNNEEDED, same version is already published
kunpeng2Linux (openEuler 24.03 LTS) / aarch64  OK    OK    NA  
Package 68/80HostnameOS / ArchINSTALLBUILDCHECKBUILD BIN
SpatialOmicsOverlay 1.8.1  (landing page)
Maddy Griswold
git_last_commit: fa91a50
git_last_commit_date: 2025-09-29 13:59:21 -0400
nebbiolo1Linux (Ubuntu 24.04.3 LTS) / x86_64  OK    OK    OK  UNNEEDED, same version is already published
merida1macOS 12.7.5 Monterey / x86_64  OK    OK    OK    OK  UNNEEDED, same version is already published
kjohnson1macOS 13.6.6 Ventura / arm64  OK    OK    OK    OK  UNNEEDED, same version is already published
kunpeng2Linux (openEuler 24.03 LTS) / aarch64  OK    TIMEOUT  skipped
Package 69/80HostnameOS / ArchINSTALLBUILDCHECKBUILD BIN
SpliceWiz 1.10.1  (landing page)
Alex Chit Hei Wong
git_last_commit: 2568ef4
git_last_commit_date: 2025-05-08 12:30:24 -0400
nebbiolo1Linux (Ubuntu 24.04.3 LTS) / x86_64  OK    OK    WARNINGS  UNNEEDED, same version is already published
merida1macOS 12.7.5 Monterey / x86_64  OK    OK    WARNINGS    OK  UNNEEDED, same version is already published
kjohnson1macOS 13.6.6 Ventura / arm64  OK    OK    WARNINGS    OK  UNNEEDED, same version is already published
kunpeng2Linux (openEuler 24.03 LTS) / aarch64  OK    OK    NA  
Package 70/80HostnameOS / ArchINSTALLBUILDCHECKBUILD BIN
SurfR 1.4.2  (landing page)
Aurora Maurizio
git_last_commit: acd4cd4
git_last_commit_date: 2025-09-25 09:04:07 -0400
nebbiolo1Linux (Ubuntu 24.04.3 LTS) / x86_64  OK    OK    OK  UNNEEDED, same version is already published
merida1macOS 12.7.5 Monterey / x86_64  OK    OK    OK    OK  UNNEEDED, same version is already published
kjohnson1macOS 13.6.6 Ventura / arm64  OK    OK    OK    OK  UNNEEDED, same version is already published
kunpeng2Linux (openEuler 24.03 LTS) / aarch64  OK    OK    NA  
Package 71/80HostnameOS / ArchINSTALLBUILDCHECKBUILD BIN
tenXplore 1.30.0  (landing page)
VJ Carey
git_last_commit: 3cd7a55
git_last_commit_date: 2025-04-15 11:16:05 -0400
nebbiolo1Linux (Ubuntu 24.04.3 LTS) / x86_64  OK    OK    OK  UNNEEDED, same version is already published
merida1macOS 12.7.5 Monterey / x86_64  OK    OK    OK    OK  UNNEEDED, same version is already published
kjohnson1macOS 13.6.6 Ventura / arm64  OK    OK    OK    OK  UNNEEDED, same version is already published
kunpeng2Linux (openEuler 24.03 LTS) / aarch64  OK    OK    NA  
Package 72/80HostnameOS / ArchINSTALLBUILDCHECKBUILD BIN
terraTCGAdata 1.12.0  (landing page)
Marcel Ramos
git_last_commit: 1b3a559
git_last_commit_date: 2025-04-15 12:49:51 -0400
nebbiolo1Linux (Ubuntu 24.04.3 LTS) / x86_64  OK    OK    OK  UNNEEDED, same version is already published
merida1macOS 12.7.5 Monterey / x86_64  OK    OK    OK    OK  UNNEEDED, same version is already published
kjohnson1macOS 13.6.6 Ventura / arm64  OK    OK    OK    OK  UNNEEDED, same version is already published
kunpeng2Linux (openEuler 24.03 LTS) / aarch64  OK    OK    NA  
Package 73/80HostnameOS / ArchINSTALLBUILDCHECKBUILD BIN
TFutils 1.28.0  (landing page)
Vincent Carey
git_last_commit: 54278cc
git_last_commit_date: 2025-04-15 11:20:38 -0400
nebbiolo1Linux (Ubuntu 24.04.3 LTS) / x86_64  OK    OK    OK  UNNEEDED, same version is already published
merida1macOS 12.7.5 Monterey / x86_64  OK    OK    OK    OK  UNNEEDED, same version is already published
kjohnson1macOS 13.6.6 Ventura / arm64  OK    OK    OK    OK  UNNEEDED, same version is already published
kunpeng2Linux (openEuler 24.03 LTS) / aarch64  OK    OK    NA  
Package 74/80HostnameOS / ArchINSTALLBUILDCHECKBUILD BIN
tomoseqr 1.12.0  (landing page)
Ryosuke Matsuzawa
git_last_commit: 780e41d
git_last_commit_date: 2025-04-15 12:48:46 -0400
nebbiolo1Linux (Ubuntu 24.04.3 LTS) / x86_64  OK    OK    OK  UNNEEDED, same version is already published
merida1macOS 12.7.5 Monterey / x86_64  OK    OK    OK    OK  UNNEEDED, same version is already published
kjohnson1macOS 13.6.6 Ventura / arm64  OK    OK    OK    OK  UNNEEDED, same version is already published
kunpeng2Linux (openEuler 24.03 LTS) / aarch64  OK    OK    NA  
Package 75/80HostnameOS / ArchINSTALLBUILDCHECKBUILD BIN
tximeta 1.26.2  (landing page)
Michael Love
git_last_commit: 535c38d
git_last_commit_date: 2025-09-09 15:44:23 -0400
nebbiolo1Linux (Ubuntu 24.04.3 LTS) / x86_64  OK    OK    OK  UNNEEDED, same version is already published
merida1macOS 12.7.5 Monterey / x86_64  OK    OK    OK    OK  UNNEEDED, same version is already published
kjohnson1macOS 13.6.6 Ventura / arm64  OK    OK    OK    OK  UNNEEDED, same version is already published
kunpeng2Linux (openEuler 24.03 LTS) / aarch64  OK    OK    NA  
Package 76/80HostnameOS / ArchINSTALLBUILDCHECKBUILD BIN
UMI4Cats 1.18.2  (landing page)
Mireia Ramos-Rodriguez
git_last_commit: 6919621
git_last_commit_date: 2025-09-23 05:15:27 -0400
nebbiolo1Linux (Ubuntu 24.04.3 LTS) / x86_64  OK    OK    OK  UNNEEDED, same version is already published
merida1macOS 12.7.5 Monterey / x86_64  OK    OK    OK    OK  UNNEEDED, same version is already published
kjohnson1macOS 13.6.6 Ventura / arm64  OK    OK    OK    OK  UNNEEDED, same version is already published
kunpeng2Linux (openEuler 24.03 LTS) / aarch64  OK    OK    NA  
Package 77/80HostnameOS / ArchINSTALLBUILDCHECKBUILD BIN
uncoverappLib 1.18.0  (landing page)
Emanuela Iovino
git_last_commit: ec9f8b6
git_last_commit_date: 2025-04-15 12:06:23 -0400
nebbiolo1Linux (Ubuntu 24.04.3 LTS) / x86_64  OK    OK    OK  UNNEEDED, same version is already published
merida1macOS 12.7.5 Monterey / x86_64  OK    OK    OK    OK  UNNEEDED, same version is already published
kjohnson1macOS 13.6.6 Ventura / arm64  OK    OK    OK    OK  UNNEEDED, same version is already published
kunpeng2Linux (openEuler 24.03 LTS) / aarch64  OK    OK    NA  
Package 78/80HostnameOS / ArchINSTALLBUILDCHECKBUILD BIN
UniProt.ws 2.48.0  (landing page)
Marcel Ramos
git_last_commit: d0e016b
git_last_commit_date: 2025-04-15 10:16:32 -0400
nebbiolo1Linux (Ubuntu 24.04.3 LTS) / x86_64  OK    OK    OK  UNNEEDED, same version is already published
merida1macOS 12.7.5 Monterey / x86_64  OK    OK    OK    OK  UNNEEDED, same version is already published
kjohnson1macOS 13.6.6 Ventura / arm64  OK    OK    OK    OK  UNNEEDED, same version is already published
kunpeng2Linux (openEuler 24.03 LTS) / aarch64  OK    OK    NA  
Package 79/80HostnameOS / ArchINSTALLBUILDCHECKBUILD BIN
waddR 1.22.0  (landing page)
Julian Flesch
git_last_commit: 9307e86
git_last_commit_date: 2025-04-15 11:51:38 -0400
nebbiolo1Linux (Ubuntu 24.04.3 LTS) / x86_64  OK    OK    OK  UNNEEDED, same version is already published
merida1macOS 12.7.5 Monterey / x86_64  OK    ERROR  skippedskipped
kjohnson1macOS 13.6.6 Ventura / arm64  OK    ERROR  skippedskipped
kunpeng2Linux (openEuler 24.03 LTS) / aarch64  OK    OK    NA  
Package 80/80HostnameOS / ArchINSTALLBUILDCHECKBUILD BIN
xenLite 1.2.1  (landing page)
Vincent Carey
git_last_commit: 593fac8
git_last_commit_date: 2025-05-08 12:31:02 -0400
nebbiolo1Linux (Ubuntu 24.04.3 LTS) / x86_64  OK    OK    OK  UNNEEDED, same version is already published
merida1macOS 12.7.5 Monterey / x86_64  OK    OK    OK    OK  UNNEEDED, same version is already published
kjohnson1macOS 13.6.6 Ventura / arm64  OK    OK    OK    OK  UNNEEDED, same version is already published
kunpeng2Linux (openEuler 24.03 LTS) / aarch64  OK    ERROR  skipped