Package: MsBackendRawFileReader Version: 1.14.0 Command: /home/biocbuild/R/R/bin/R CMD build --keep-empty-dirs --no-resave-data MsBackendRawFileReader StartedAt: 2025-10-10 02:47:31 -0000 (Fri, 10 Oct 2025) EndedAt: 2025-10-10 02:48:09 -0000 (Fri, 10 Oct 2025) EllapsedTime: 38.0 seconds RetCode: 1 Status: ERROR PackageFile: None PackageFileSize: NA