Package: ReactomeGraph4R Version: 1.16.0 Command: /home/biocbuild/R/R/bin/R CMD INSTALL ReactomeGraph4R StartedAt: 2025-10-06 20:19:59 -0000 (Mon, 06 Oct 2025) EndedAt: 2025-10-06 20:20:06 -0000 (Mon, 06 Oct 2025) EllapsedTime: 6.9 seconds RetCode: 0 Status: OK