Package: SQLDataFrame Version: 1.22.0 Command: rm -rf SQLDataFrame.buildbin-libdir && mkdir SQLDataFrame.buildbin-libdir && /Users/biocbuild/BBS/utils/build-universal.sh SQLDataFrame_1.22.0.tar.gz /Library/Frameworks/R.framework/Resources/bin/R SQLDataFrame.buildbin-libdir StartedAt: 2025-07-15 14:46:41 -0400 (Tue, 15 Jul 2025) EndedAt: 2025-07-15 14:47:30 -0400 (Tue, 15 Jul 2025) EllapsedTime: 49.0 seconds RetCode: 0 Status: OK PackageFile: SQLDataFrame_1.22.0.tgz PackageFileSize: 575.5 KiB