Package: SQLDataFrame Version: 1.22.0 Command: /Library/Frameworks/R.framework/Resources/bin/R CMD build --keep-empty-dirs --no-resave-data SQLDataFrame StartedAt: 2025-07-14 23:03:24 -0400 (Mon, 14 Jul 2025) EndedAt: 2025-07-14 23:04:26 -0400 (Mon, 14 Jul 2025) EllapsedTime: 61.9 seconds RetCode: 0 Status: OK PackageFile: SQLDataFrame_1.22.0.tar.gz PackageFileSize: 234.9 KiB