Package: SQLDataFrame Version: 1.22.0 Command: /Library/Frameworks/R.framework/Resources/bin/R CMD INSTALL SQLDataFrame StartedAt: 2025-07-14 15:28:42 -0400 (Mon, 14 Jul 2025) EndedAt: 2025-07-14 15:29:22 -0400 (Mon, 14 Jul 2025) EllapsedTime: 40.0 seconds RetCode: 0 Status: OK