Package: arrayQualityMetrics Version: 3.64.0 Command: /home/biocbuild/R/R/bin/R CMD INSTALL arrayQualityMetrics StartedAt: 2025-10-13 20:45:26 -0000 (Mon, 13 Oct 2025) EndedAt: 2025-10-13 20:46:03 -0000 (Mon, 13 Oct 2025) EllapsedTime: 36.8 seconds RetCode: 0 Status: OK